BEGIN:VCALENDAR
VERSION:2.0
PRODID:-//Εκδόσεις Ποιότητα - ECPv6.10.1.1//NONSGML v1.0//EN
CALSCALE:GREGORIAN
METHOD:PUBLISH
X-WR-CALNAME:Εκδόσεις Ποιότητα
X-ORIGINAL-URL:https://piotita.gr
X-WR-CALDESC:Events for Εκδόσεις Ποιότητα
REFRESH-INTERVAL;VALUE=DURATION:PT1H
X-Robots-Tag:noindex
X-PUBLISHED-TTL:PT1H
BEGIN:VTIMEZONE
TZID:Europe/Athens
BEGIN:DAYLIGHT
TZOFFSETFROM:+0200
TZOFFSETTO:+0300
TZNAME:EEST
DTSTART:20220327T010000
END:DAYLIGHT
BEGIN:STANDARD
TZOFFSETFROM:+0300
TZOFFSETTO:+0200
TZNAME:EET
DTSTART:20221030T010000
END:STANDARD
BEGIN:DAYLIGHT
TZOFFSETFROM:+0200
TZOFFSETTO:+0300
TZNAME:EEST
DTSTART:20230326T010000
END:DAYLIGHT
BEGIN:STANDARD
TZOFFSETFROM:+0300
TZOFFSETTO:+0200
TZNAME:EET
DTSTART:20231029T010000
END:STANDARD
BEGIN:DAYLIGHT
TZOFFSETFROM:+0200
TZOFFSETTO:+0300
TZNAME:EEST
DTSTART:20240331T010000
END:DAYLIGHT
BEGIN:STANDARD
TZOFFSETFROM:+0300
TZOFFSETTO:+0200
TZNAME:EET
DTSTART:20241027T010000
END:STANDARD
BEGIN:DAYLIGHT
TZOFFSETFROM:+0200
TZOFFSETTO:+0300
TZNAME:EEST
DTSTART:20250330T010000
END:DAYLIGHT
BEGIN:STANDARD
TZOFFSETFROM:+0300
TZOFFSETTO:+0200
TZNAME:EET
DTSTART:20251026T010000
END:STANDARD
BEGIN:DAYLIGHT
TZOFFSETFROM:+0200
TZOFFSETTO:+0300
TZNAME:EEST
DTSTART:20260329T010000
END:DAYLIGHT
BEGIN:STANDARD
TZOFFSETFROM:+0300
TZOFFSETTO:+0200
TZNAME:EET
DTSTART:20261025T010000
END:STANDARD
TZID:UTC
BEGIN:STANDARD
TZOFFSETFROM:+0000
TZOFFSETTO:+0000
TZNAME:UTC
DTSTART:20210101T000000
END:STANDARD
END:VTIMEZONE
BEGIN:VEVENT
DTSTART;TZID=Europe/Athens:20260211T180000
DTEND;TZID=Europe/Athens:20260211T203000
DTSTAMP:20260421T230821
CREATED:20260205T210704Z
LAST-MODIFIED:20260219T184813Z
UID:45586-1770832800-1770841800@piotita.gr
SUMMARY:Βιβλιοπαρουσίαση: Το διεθνές σύστημα σε ιστορική μετάβαση
DESCRIPTION:https://youtu.be/vAr9lu7n-mk\n\nΤο Ινστιτούτο Διεθνών Σχέσεων (Ι.ΔΙ.Σ.) του Παντείου Παν/μίου και οι Εκδόσεις Ποιότητα διοργάνωσαν την Τετάρτη 11 Φεβρουαρίου\, Ώρα 18:00\, στην παρουσίαση του συλλογικού τόμου\, σε επιμέλεια Παναγιώτη Ήφαιστου:\n\n\n\nΤο διεθνές σύστημα σε ιστορική μετάβαση21 αναλύσεις για τις αναδυόμενες προκλήσεις\n\n\n\nΤον τόμο θα παρουσιάσουν οι συμμετέχοντες συγγραφείς:• Παναγιώτης Ήφαιστος\, Ομότιμος Καθηγητής Διεθνών Σχέσεων\n• Κωνσταντίνος Λάβδας\, Καθηγητής Ευρωπαϊκής και Συγκριτικής Πολιτικής Παντείου Παν/μίου• Βασίλης Παϊπάης\, Καθηγητής Διεθνούς Πολιτικής Θεωρίας Παντείου Παν/μίου• Χάρης Παπασωτηρίου\, Καθηγητής Διεθνών Σχέσεων και Στρατηγικών Σπουδών Παντείου Παν/μίου\n\nΤην παρουσίαση συντονίζει η δημοσιογράφος κ. Αδαμαντία Λιόλιου\, ERTNews.\n\nΗ εκδήλωση θα πραγματοποιηθεί στην Αίθουσα Εκδηλώσεων Ι.ΔΙ.Σ (Χίλλ 3-5\, Πλάκα).\nΗ σελίδα της εκδήλωσης στο facebook: https://fb.me/e/8o6KppnPI\n\nΑποκτήστε το βιβλίο εδώ: https://piotita.gr/?p=45524\n\nΜέσα από το βιβλίο διακεκριμένοι επιστήμονες με 21 αναλύσεις ανατέμνουν και φωτίζουν τον κόσμο μέσα από 7 θεματικές ενότητες:\nΣτην 1η ενότητα: το διεθνές σύστημα στον 21ο αιώνα καταδεικνύεται γιατί το διεθνές σύστημα είναι σε μετάβαση και πώς χαρακτηρίζεται: μονοπολικό\, πολυπολικό\, υβριδικό\, πολυκεντρικό· γιατί στη «ζούγκλα» της διεθνούς πολιτικής οι συναλλαγές (πελατειακές σχέσεις) των κρατών όχι μόνο επιβιώνουν\, αλλά ορίζονται εκ νέου και επηρεάζουν δραστικά τον τρόπο με τον οποίο εξελίσσεται η διεθνής πολιτική· γιατί η πανδημία του COVID-19 αναίρεσε τα υπερεθνικά ιδε- ολογήματα (Παπασωτηρίου Χ.\, Κολιόπουλος Κ.\, Λίτσας Σ.\, Στιβαχτής Γ.\, Ζιώγας Χ.\, Παιδή Ρ.).\nΣτη 2η ενότητα: ευρασιατικοί πόλοι ισχύος: Κίνα\, Ινδία καταδεικνύεται πώς η Κίνα αναδύεται σε στρατηγικό αντα- γωνιστή των ΗΠΑ και πώς εξελίσσεται η θέση\, ο ρόλος και η εξωτερική πολιτική της Ινδίας εν μέσω καταιγιστικών ανακατατάξεων ισχύος και συμφερόντων του σύγχρονου διεθνούς συστήματος (Τσιριγώτης Δ.\, Παναγιωτόπουλος Π.\, Ρουκανάς Σ.\, Λάβδας Κ.\, Ευαγόρου Ε.).\nΣτην 3η ενότητα: γεωπολιτική και Τουρκία καταδεικνύεται ποιοι είναι οι τουρκικοί στρατηγικοί προσανατολισμοί επί διακυβέρνησης Ερντογάν· γιατί η τήξη των πάγων στην Αρκτική αποτελεί εφαλτήριο γεωστρατηγικών εξελίξεων στην ευρασιατική περίμετρο και ποιος είναι ο διττός ρόλος της Τουρκίας (Ραπτόπουλος Ν.\, Τρούλης Μ.).\nΣτην 4η ενότητα: διεθνής ασφάλεια καταδεικνύεται πώς μεταλλάσεται η τρομοκρατία και πώς μετατρέπεται σε εργαλείο χειρισμού κρατών για επίτευξη συμφερόντων (Μπόση Μ.).Στην 5η ενότητα: διεθνείς σχέσεις και νέες τεχνολογίες καταδεικνύεται γιατί η τεχνητή νοημοσύνη μετασχηματίζει θεμελιώδεις έννοιες όπως η ισχύς\, η ασφάλεια και η διακυβέρνηση· γιατί οι εκστρατείες παραπληροφόρησης και προπαγάνδας έχουν χρησιμοποιηθεί ως στρατηγικά εργαλεία απονομιμοποίησης\, αποσταθεροποίησης και διεθνούς επιρροής (Λιαρόπουλος Α.\, Καψοκόλη Ε.).\nΣτην 6η ενότητα: αντι/μετα-φιλελεύθερες προκλήσεις και παγκόσμια τάξη καταδεικνύεται ο διεθνής\, ετερόκλητος και αντιφατικός χαρακτήρας της Νέας Δεξιάς και πώς επηρεάζει τη διεθνή πολιτική· πώς ο Schmitt έδειξε τη σύγκλιση του πολιτικού μέσα στο διεθνές· ποια η επικαιρότητα του Π. Κονδύλη μέσα από την ανάλυση της έννοιας «πλανητική πολιτική» (Παϊπάης Β.\, Μακρής Σ.\, Μικέλης Κ.).\nΣτην 7η ενότητα: Διεθνές δίκαιο – ΟΗΕ καταδεικνύεται γιατί το σύγχρονο αποτύπωμα της διεθνούς δικαιοταξίας καταγράφει έναν «Κόσμο» σε απόλυτα ρευστή μετεξέλιξη και γιατί διαπιστώνεται μια «μελαγχολία του διεθνούς δικαίου» όπως και για το εάν τα Ηνωμένα Έθνη και οι υπόλοιποι υπάρχοντες διεθνείς θεσμοί είναι σε θέση να διασφαλίσουν τη διεθνή τάξη σε μια εποχή γεωπολιτικών αντιπαραθέσεων (Περράκης Σ.\, Τσάλτας Γ.\, Χειλά Ε.).
URL:https://piotita.gr/event/vivlioparousiasi-to-diethnes-systima-se-istoriki-metavasi/
LOCATION:Αίθουσα Εκδηλώσεων Ι.ΔΙ.Σ (Χίλλ 3-5\, Πλάκα)
CATEGORIES:Βιβλιοπαρουσιάσεις
ATTACH;FMTTYPE=image/png:https://piotita.gr/wp-content/uploads/2026/02/πρόσκληση.png
END:VEVENT
BEGIN:VEVENT
DTSTART;TZID=Europe/Athens:20260126T183000
DTEND;TZID=Europe/Athens:20260126T203000
DTSTAMP:20260421T230821
CREATED:20260118T191001Z
LAST-MODIFIED:20260131T105222Z
UID:45572-1769452200-1769459400@piotita.gr
SUMMARY:Εκδήλωση: 30 χρόνια από την κρίση των Ιμίων
DESCRIPTION:  \nΘερμές ευχαριστίες σε όλους όσοι παρευρέθηκαν\, καθώς και στους εκλεκτούς ομιλητές Ι. Εγκολφόπουλο\, Κ. Γρίβα και Δ. Σταθακόπουλο\, στην παρουσίαση του βιβλίου του Διονύση Τσιριγώτη με τίτλο  «Ελλάδα–Τουρκία: Θεωρία και στρατηγική αποτροπής. Οι κρίσεις του 1976\, του Μαρτίου 1987 και των Ιμίων (1996)». \nΗ εκδήλωση πραγματοποιήθηκε στις 26/01/2026 στην κατάμεστη αίθουσα της Εταιρίας Ελλήνων Λογοτεχνών και εξελίχθηκε σε έναν ουσιαστικό και υψηλού επιπέδου διάλογο γύρω από τις δομικές παραμέτρους της ελληνοτουρκικής αντιπαράθεσης\, τη θεωρία της αποτροπής και τη στρατηγική συμπεριφορά κρατών σε συνθήκες κρίσης. \nΤο βιβλίο αποτέλεσε την αφορμή για μια συστηματική επανεξέταση των κρίσιμων στιγμών της μεταπολιτευτικής περιόδου\, όχι ως απομονωμένων «επεισοδίων»\, αλλά ως εκφάνσεων μιας διαχρονικής στρατηγικής δυναμικής. Μεταξύ άλλων\, τέθηκαν και αναλύθηκαν θεμελιώδη ερωτήματα στρατηγικής θεωρίας και πολιτικής πράξης: γιατί η αποτροπή δεν συνιστά απλώς τεχνικό υπολογισμό ισχύος\, αλλά συνδυασμό επιστημονικής ανάλυσης και πολιτικής τέχνης· πώς και γιατί οι κρίσεις του 1976\, του 1987 και των Ιμίων του 1996 εμφανίζουν εσωτερική συνοχή και δομική αντιστοιχία· ποια ποιοτική μεταβολή εισήγαγε η κρίση των Ιμίων στο πλαίσιο της ελληνοτουρκικής αντιπαράθεσης και τι αποκαλύπτει για τη μεταβολή της τουρκικής στρατηγικής. \nΙδιαίτερη έμφαση δόθηκε στον τρόπο με τον οποίο η Ελλάδα αντιλαμβάνεται τον τουρκικό επεκτατισμό\, συχνά αποσπασματικά και ως «προκλήσεις»\, καθώς και στα όρια που θέτει αυτή η αντίληψη στη συγκρότηση μιας συνεκτικής εθνικής στρατηγικής αποτροπής. Τέθηκαν επίσης κρίσιμα ερωτήματα σχετικά με το casus belli\, τα 12 ναυτικά μίλια\, τη λογική της «μικράς πλην εντίμου Ελλάδας» και τη δυσκολία υπέρβασης ενός αμυντικού και φοβικού πλαισίου στρατηγικής σκέψης. Τέλος\, η συζήτηση επεκτάθηκε στο παρόν και στο μέλλον των ελληνοτουρκικών σχέσεων\, επιχειρώντας να αποσαφηνίσει τι ακριβώς επιδιώκει σήμερα η Τουρκία από την Ελλάδα και πώς μπορεί η ελληνική πλευρά να μεταβεί από τη διαχείριση κρίσεων στη διαμόρφωση στρατηγικής. Η παρουσία και η ενεργή συμμετοχή του κοινού επιβεβαίωσαν ότι ζητήματα στρατηγικής\, αποτροπής και εθνικής ασφάλειας παραμένουν όχι μόνο επίκαιρα\, αλλά και αναγκαία για έναν ώριμο δημόσιο διάλογο. \nΣας ευχαριστούμε όλους για τη συμβολή σας σε αυτή τη συζήτηση.
URL:https://piotita.gr/event/30-xronia-apo-tin-krisi-ton-imion/
LOCATION:Εταιρεία Ελλήνων Λογοτεχνών (Ακαδημίας & Γενναδίου 8\, 7ος όροφος)
CATEGORIES:Βιβλιοπαρουσιάσεις,Θεματικές εκδηλώσεις
ATTACH;FMTTYPE=image/png:https://piotita.gr/wp-content/uploads/2026/01/30-χρόνια-από-την-κρίση-των-Ιμίων.png
END:VEVENT
BEGIN:VEVENT
DTSTART;TZID=Europe/Athens:20241104T170000
DTEND;TZID=Europe/Athens:20241104T190000
DTSTAMP:20260421T230821
CREATED:20241022T105428Z
LAST-MODIFIED:20260118T134250Z
UID:42406-1730739600-1730746800@piotita.gr
SUMMARY:30 ΧΡΟΝΙΑ ΑΠΟ ΤΗΝ ΚΡΙΣΗ ΤΩΝ ΙΜΙΩΝ
DESCRIPTION:Οι Εκδόσεις Ποιότητα έχουν την τιμή να σας προσκαλέσουν στις 4 Νοεμβρίου και ώρα 17:00 στην παρουσίαση του βιβλίου του Δρ. Φλώρου Φλούρου με τίτλο:\n\nΗ Πολιτική Οικονομία της Ασφάλειας και της Άμυνας\n\nΟμιλητές• Νίκος Παναγιωτόπουλος\, Υπουργός Μετανάστευσης και Ασύλου (2024-)\, τ. Υπουργός Εθν. Άμυνας Ελλάδος (2019-2023)• Δρ. Παναγιώτης Ήφαιστος\, Ομ. Καθηγητής Διεθνών Σχέσεων-Στρατηγικών Σπουδών\, Πανεπιστήμιο Πειραιώς• Δρ. Σπυρίδων Μπελεγράτης\, Αντιστράτηγος ε.α.\, Πρόεδρος Συνδέσμου Επιτελών Εθνικής Άμυνας (ΣΕΕΘΑ)• Δρ. Παντελής Σκλιάς\, Πρύτανης Πανεπιστημίου Νεάπολις Πάφου\n\nΣυντονιστής: Λάμπρος Καλαρρύτης\, Δημοσιογράφος Βασιλική Γυφτάκη\, Εκδότρια\, Χαιρετισμός\n\nΤόπος: Λέσχη Αξ/κων Ενόπλων Δυνάμεων (ΛΑΕΔ)\, Αίθουσα Τελετών (1ος όροφος) Σαρόγλειου Μεγάρου\, Ρηγίλλης 1 & Βασιλίσσης Σοφίας (Πλατεία Παύλου Μελά)\, 10675 Αθήνα\n\nΓια το βίντεο της παρουσίασης του βιβλίου: https://www.youtube.com/watch?v=dcQ79SzRKy4\n\nΜάθετε περισσότερα για το βιβλίο: https://piotita.gr/?p=42319
URL:https://piotita.gr/event/parousiasi-tou-vivliou-tou-florou-flourou/
CATEGORIES:Βιβλιοπαρουσιάσεις
ATTACH;FMTTYPE=image/jpeg:https://piotita.gr/wp-content/uploads/2024/10/PROSKLISI.jpg
END:VEVENT
BEGIN:VEVENT
DTSTART;TZID=Europe/Athens:20230128T180000
DTEND;TZID=Europe/Athens:20230128T200000
DTSTAMP:20260421T230821
CREATED:20230119T161016Z
LAST-MODIFIED:20250429T171256Z
UID:41588-1674928800-1674936000@piotita.gr
SUMMARY:Παρουσίαση του βιβλίου του Βαγγέλη Γεωργίου
DESCRIPTION:Οι Εκδόσεις Ποιότητα έχουν την τιμή να σας προσκαλέσουν στις 28 Ιανουαρίου και ώρα 18:00 στην παρουσίαση του βιβλίου του δημοσιογράφου Βαγγέλη Γεωργίου:\n\nΕΛΛΑΣ – ΕΟΚ: Εμπιστευτικό. Η ανεκπλήρωτη προσδοκία της ένταξης και ο τουρκικός παράγοντας. Μέσα από τα αρχεία του ΥΠΕΞ\n\nΗ εκδήλωση θα πραγματοποιηθεί στη Λαμία\, στο Μέγαρο Περιφέρειας Στερεάς Ελλάδας\, Πλατεία Ελευθερίας Υψηλάντη 1.\n\nΓια το βιβλίο θα μιλήσουν οι:\n\n\nΑντώνης Παπαγιαννίδης (Δικηγόρος-Δημοσιογράφος)\nΔιονύσιος Τσιριγώτης (Επίκουρος Kαθηγητής Σύγχρονης Ελληνικής Ιστορίας\, Διεθνών Σχέσεων και Διπλωματίας\, ΠΑΠΕΙ)\nΜάρκος Τρούλης (Διδάκτωρ και Διδάσκων του Τμήματος Τουρκικών Σπουδών και Σύγχρονων Ασιατικών Σπουδών\, ΕΚΠΑ\, καθώς και της Σχολής Εθνικής Ασφάλειας)\nΚωνσταντίνος Γρίβας (Καθηγητής Γεωπολιτικής και Σύγχρονων Στρατιωτικών Τεχνολογιών\, διευθυντής του Τομέα Θεωρίας και Ανάλυσης Πολέμου στην Στρατιωτική Σχολή Ευελπίδων)\n\nΣυντονίστρια: Βίκυ Κοτσιμπού (Δημοσιογράφος\, STAR Κεντρικής Ελλάδας) \n\n\nΜάθετε περισσότερα για το βιβλίο: https://piotita.gr/?p=40970 \nΓια το βίντεο της παρουσίασης του βιβλίου: https://youtu.be/bkHyKDCevD0. \nΠρόκειται για τη δεύτερη εκδήλωση για το βιβλίο\, καθώς η πρώτη είχε πραγματοποιηθεί στην Αθήνα τον Μάιο του 2022 (Βλ. εδώ: https://youtu.be/YlUqKpm-5uc). \n\n\n 
URL:https://piotita.gr/event/parousiasi-tou-vivliou-tou-vangeli-ge-2/
CATEGORIES:Βιβλιοπαρουσιάσεις
ATTACH;FMTTYPE=image/jpeg:https://piotita.gr/wp-content/uploads/2023/01/Προσκληση-Γεωργιου.jpg
END:VEVENT
BEGIN:VEVENT
DTSTART;TZID=Europe/Athens:20221026T203000
DTEND;TZID=Europe/Athens:20221026T213000
DTSTAMP:20260421T230821
CREATED:20221013T062634Z
LAST-MODIFIED:20250429T171256Z
UID:41427-1666816200-1666819800@piotita.gr
SUMMARY:Παρουσίαση του βιβλίου του Διονύσιου Τσιριγώτη | 100 Χρόνια από την Μικρασιατική Καταστροφή
DESCRIPTION:Με αφορμή τα 100 χρόνια από τη Μικρασιατική Καταστροφή\, οι Εκδόσεις Ποιότητα και το βιβλιοπωλείο IANOS διοργανώνουν παρουσίαση του βιβλίου του Τσιριγώτη Διονύσιου με τίτλο: Η ελληνική στρατηγική στη Μικρά Ασία\, 1919-1922. Σύγχρονη ελληνική ιστορία και εξωτερική πολιτική. Σύγχρονη ελληνική ιστορία και εξωτερική πολιτική. Το βιβλίο διερευνά και ερμηνεύει τα κύρια αίτια της Μικρασιατικής Καταστροφής του 1922. \nΟμιλητές: \n\nΓιώργος Κοντογιώργης: Ομότιμος Καθηγητής\, Πρώην Πρύτανης Παντείου Παν/μίου\nΙωάννης Μάζης: Ομότιμος Καθηγητής Οικονομικής Γεωγραφίας και Γεωπολιτικής Θεωρίας\, ΕΚΠΑ\nΔιονύσης Τσιριγώτης: Επίκουρος καθηγητής Σύγχρονης Ελληνικής Ιστορίας\, Διεθνών Σχέσεων και Διπλωματίας\, ΠΑΠΕΙ\n\nΣυντονιστής: Αλέξανδρος Ασωνίτης\nΣυγγραφέας – Υπεύθυνος της σχολής σεμιναρίων Ανοιχτή Τεχνη \nΗ εκδήλωση θα πραγματοποιηθεί στον ΙΑΝΟ της Αθήνας\, Σταδίου 24 και θα προβάλλεται ζωντανά στο κανάλι Youtube και στη σελίδα Facebook του ΙΑΝΟΥ. Η είσοδος είναι ελεύθερη και θα παρέχεται κατά την είσοδο δωρεάν ποτό. \n\nΤο βιβλίο διερευνά και ερμηνεύει τα κύρια αίτια της Μικρασιατικής Καταστροφής του 1922. Μεταξύ άλλων\, τις γενεσιουργές αιτίες του μικρασιατικού εγχειρήματος\, τα κίνητρα της πολιτικής και στρατιωτικής ηγεσίας και τα μείζονα σφάλματα στον σχεδιασμό και στην εφαρμογή της υψηλής στρατηγικής της Ελλάδας. Τα ζητήματα αυτά εξετάζονται υπό το πρίσμα τόσο των διεθνών εξελίξεων όσο και των εσωτερικών πολιτικών αλλαγών που οδήγησαν στην αποχώρηση του Βενιζέλου και στον εσωτερικό διχασμό.\nΤο κεντρικό ερώτημα του βιβλίου είναι εάν και σε ποιο βαθμό η ελληνική υψηλή στρατηγική ήταν ορθολογική στο ιστορικό και γεωπολιτικό πλαίσιο της εποχής\, ιδιαίτερα υπό το πρίσμα της στρατηγικής των μεγάλων ευρωπαϊκών δυνάμεων. Σε ποιο βαθμό\, για παράδειγμα\, το εγχείρημα αποτελούσε μακροχρόνιο κοινωνικοπολιτικό αίτημα με αφετηρία την ελληνική επανάσταση; Ακόμη πιο σημαντικό και συναφές\, σε ποιο βαθμό το εγχείρημα ήταν αναπόφευκτο υπό το πρίσμα των στρατηγικών\, πολιτικών και διπλωματικών δεδομένων λόγω αποδιάρθρωσης της Οθωμανικής αυτοκρατορίας και των μεγάλων ανακατατάξεων στον μικρασιατικό χώρο; \n\n\n\nΜάθετε περισσότερα για το βιβλίο: https://piotita.gr/?p=808 \n\nLink εκδήλωσης στο facebook: https://fb.me/e/6SEDl9RHv \n 
URL:https://piotita.gr/event/%cf%80%ce%b1%cf%81%ce%bf%cf%85%cf%83%ce%af%ce%b1%cf%83%ce%b7-%cf%84%ce%bf%cf%85-%ce%b2%ce%b9%ce%b2%ce%bb%ce%af%ce%bf%cf%85-%cf%84%ce%bf%cf%85-%ce%b4%ce%b9%ce%bf%ce%bd%cf%8d%cf%83%ce%b7-%cf%84%cf%83/
LOCATION:Βιβλιοπωλείο Ιανός (Σταδιου 24)\, Σταδίου 24\, Αθήνα\, 105 64\, Ελλάδα
CATEGORIES:Βιβλιοπαρουσιάσεις
ATTACH;FMTTYPE=image/png:https://piotita.gr/wp-content/uploads/2022/10/100-ΧΡΟΝΙΑ-Εξώφυλλο-εκδήλωσης-Facebook-1200-×-628-px.png
END:VEVENT
BEGIN:VEVENT
DTSTART;TZID=Europe/Athens:20220530T190000
DTEND;TZID=Europe/Athens:20220530T203000
DTSTAMP:20260421T230821
CREATED:20220522T071443Z
LAST-MODIFIED:20250429T171256Z
UID:41090-1653937200-1653942600@piotita.gr
SUMMARY:Παρουσίαση του βιβλίου του Βαγγέλη Γεωργίου
DESCRIPTION:Οι Εκδόσεις Ποιότητα έχουν την τιμή να σας προσκαλέσουν στις 30 Μαΐου και ώρα 19:00 στην παρουσίαση του βιβλίου του δημοσιογράφου Βαγγέλη Γεωργίου:\n\nΕΛΛΑΣ – ΕΟΚ: Εμπιστευτικό. Η ανεκπλήρωτη προσδοκία της ένταξης και ο τουρκικός παράγοντας. Μέσα από τα αρχεία του ΥΠΕΞ\n\nΓια το βιβλίο θα μιλήσουν οι:\n\n– Κωνσταντίνος Γρίβας (Καθηγητής Γεωπολιτικής και Σύγχρονων Στρατιωτικών Τεχνολογιών\, διευθυντής του Τομέα Θεωρίας και Ανάλυσης Πολέμου στην Στρατιωτική Σχολή Ευελπίδων)\n– Αντωνία Δήμου (Διεθνολόγος\, Οικονομολόγος\, Διευθύντρια Μέσης Ανατολής στο Ινστιτούτο Αμυντικών Αναλύσεων Άμυνας και Ασφάλειας και non–resident fellow\, CMED\, Πανεπιστήμιο της Καλιφόρνια)\n– Αντώνης Παπαγιαννίδης (Δικηγόρος-Δημοσιογράφος)\n– Αριστείδης Χατζής (Καθηγητής Φιλοσοφίας Δικαίου & Θεωρίας Θεσμών στο Τμήμα Ιστορίας & Φιλοσοφίας της Επιστήμης του ΕΚΠΑ και διευθυντής ερευνών στο Κέντρο Φιλελεύθερων Μελετών (ΚΕΦίΜ)\n\nΣυντονίστρια: Δέσποινα Χριστοπούλου (Δημοσιογράφος\, Ραδιόφωνο ΣΚΑΪ)Η εκδήλωση θα λάβει χώρα στο Roof Garden OLYMPIAS (Αθηνάς 57\, Αθήνα) \nLink Βιβλίου: https://piotita.gr/?p=40970 \n\n\n 
URL:https://piotita.gr/event/%cf%80%ce%b1%cf%81%ce%bf%cf%85%cf%83%ce%af%ce%b1%cf%83%ce%b7-%cf%84%ce%bf%cf%85-%ce%b2%ce%b9%ce%b2%ce%bb%ce%af%ce%bf%cf%85-%cf%84%ce%bf%cf%85-%ce%b2%ce%b1%ce%b3%ce%b3%ce%ad%ce%bb%ce%b7-%ce%b3%ce%b5/
LOCATION:Ξενοδοχείο Ολυμπιάς (Αθηνάς 57)
CATEGORIES:Βιβλιοπαρουσιάσεις
ATTACH;FMTTYPE=image/png:https://piotita.gr/wp-content/uploads/2022/05/Πρόσκληση-σε-παρουσίαση.png
END:VEVENT
BEGIN:VEVENT
DTSTART;TZID=Europe/Athens:20220411T063000
DTEND;TZID=Europe/Athens:20220411T083000
DTSTAMP:20260421T230821
CREATED:20220331T142604Z
LAST-MODIFIED:20250429T171257Z
UID:40818-1649658600-1649665800@piotita.gr
SUMMARY:Παρουσίαση του βιβλίου του Μάρκου Τρούλη
DESCRIPTION:Οι Εκδόσεις Ποιότητα έχουν την τιμή να σας προσκαλέσουν στην παρουσίαση του βιβλίου του Μάρκου Τρούλη: \nΤουρκική στρατηγική στον Καύκασο και στην Κεντρική Ασία. Γεωγραφικές\, ιδεολογικές και πολιτισμικές διαμορφώσεις στη σύγχρονη Τουρκία \nΓια το βιβλίο θα μιλήσουν:\n\n– Γρίβας Κωνσταντίνος (Καθηγητής Γεωπολιτικής και Σύγχρονων Στρατιωτικών Τεχνολογιών\, Διευθυντής του Τομέα Θεωρίας και Ανάλυσης Πολέμου\, Στρατιωτική Σχολή Ευελπίδων)\n– Μάζης Ιωάννης (Ομότιμος Καθηγητής Οικονομικής Γεωγραφίας και Γεωπολιτικής Θεωρίας\, Εθνικό και Καποδιστριακό Πανεπιστήμιο Αθηνών)\n\nΣυντονιστής: Πάρις Καρβουνόπουλος (Δημοσιογράφος\, Διαχειριστής της ιστοσελίδας militaire.gr)\n\nΗ εκδήλωση θα πραγματοποιηθεί στον ΙΑΝΟ της Αθήνας\, Σταδίου 24 και θα προβάλλεται ζωντανά στο κανάλι Youtube και στη σελίδα Facebook του ΙΑΝΟΥ.\n\nLink εκδήλωσης: \nLink Βιβλίου: \n 
URL:https://piotita.gr/event/%cf%80%ce%b1%cf%81%ce%bf%cf%85%cf%83%ce%af%ce%b1%cf%83%ce%b7-%cf%84%ce%bf%cf%85-%ce%b2%ce%b9%ce%b2%ce%bb%ce%af%ce%bf%cf%85-%cf%84%ce%bf%cf%85-%ce%bc%ce%ac%cf%81%ce%ba%ce%bf%cf%85-%cf%84%cf%81%ce%bf/
LOCATION:Βιβλιοπωλείο Ιανός (Σταδιου 24)\, Σταδίου 24\, Αθήνα\, 105 64\, Ελλάδα
CATEGORIES:Βιβλιοπαρουσιάσεις
ATTACH;FMTTYPE=image/png:https://piotita.gr/wp-content/uploads/2022/03/πρόσκληση.png
END:VEVENT
BEGIN:VEVENT
DTSTART;TZID=UTC:20211130T180000
DTEND;TZID=UTC:20211130T200000
DTSTAMP:20260421T230821
CREATED:20211122T195326Z
LAST-MODIFIED:20250504T195852Z
UID:39749-1638295200-1638302400@piotita.gr
SUMMARY:200 Χρόνια από την ελληνική επανάσταση
DESCRIPTION:[vc_row][vc_column][vc_column_text] \nΟι Εκδόσεις Ποιότητα έχουν την τιμή να σας προσκαλέσουν σε έναν διάλογο με εκλεκτούς ομιλητές με αφορμή το βιβλίο του Γ. Κοντογιώργη\, Ελληνισμός και ελλαδικό κράτος. Δύο αιώνες αντιμαχίας. 1821-2021 την Τρίτη 30 Νοεμβρίου 2021 και ώρα 18.00 στο ίδρυμα Θεοχαράκη (Βασιλίσσης Σοφίας 9 & Μέρλιν 1).\n\nΟμιλητές:\n\n– Λαοκράτης Βάσσης (Φιλόλογος\, Συγγραφέας)\n– Κωνσταντίνος Κολιόπουλος(Αν. Καθηγητής)\n– Άγγελος Συρίγος (Αν. Καθηγητής\, Υφυπουργός Παιδείας)\nκαι ο συγγραφέας Γιώργος Κοντογιώργης\n\n*Η εκδήλωση θα πραγματοποιηθεί δια ζώσης και θα μεταδίδεται με live streaming από το Ίδρυμα Θεοχαράκη μέσω της σελίδας facebook: @thf.gr (B & M Theocharakis Foundation for the Fine Arts and Music)\n* Δηλώστε συμμετοχή στην εκδήλωση μέσω του facebook των Εκδόσεων \n\n_________________________________\nLink Βιβλίου: \n[/vc_column_text][/vc_column][/vc_row]
URL:https://piotita.gr/event/200-chronia-apo-tin-elliniki-epanastasi/
LOCATION:Ίδρυμα Θεοχαράκη\, Βασιλίσσης Σοφίας 9 &\, Μέρλιν 1\, Αθήνα\, 106 71\, Ελλάδα
CATEGORIES:Βιβλιοπαρουσιάσεις
ATTACH;FMTTYPE=image/png:https://piotita.gr/wp-content/uploads/2021/11/final-1.png
END:VEVENT
BEGIN:VEVENT
DTSTART;TZID=UTC:20210609T180000
DTEND;TZID=UTC:20210609T180000
DTSTAMP:20260421T230821
CREATED:20210609T081307Z
LAST-MODIFIED:20250429T171257Z
UID:29271-1623261600-1623261600@piotita.gr
SUMMARY:Παρουσίαση του βιβλίου του Χαράλαμπου Παπασωτηρίου
DESCRIPTION:[vc_row][vc_column width=”1/2″][impeka_single_image image=”29274″ link_type=”video-popup” video_link=”https://www.youtube.com/watch?v=cAqH241QSzs&fbclid=IwAR0IkBn_XcNHu2HHTiieq_sFTkGAPgA-UbSLq6qtKEPhdN-dwosWrWdd_bE”][/vc_column][vc_column width=”1/2″][vc_column_text]Ομιλητές: \n\nΚωνσταντίνος Λάβδας\, Καθηγητής Παντείου Πανεπιστημίου\nΔημήτρης Καιρίδης\, Καθηγητής Παντείου Πανεπιστημίου\nΑλέξανδρος Μαλλιάς\, Πρέσβης επί τιμή\n\n[/vc_column_text][/vc_column][/vc_row]
URL:https://piotita.gr/event/%cf%80%ce%b1%cf%81%ce%bf%cf%85%cf%83%ce%af%ce%b1%cf%83%ce%b7-%cf%84%ce%bf%cf%85-%ce%b2%ce%b9%ce%b2%ce%bb%ce%af%ce%bf%cf%85-%cf%84%ce%bf%cf%85-%cf%87%ce%b1%cf%81%ce%ac%ce%bb%ce%b1%ce%bc%cf%80%ce%bf/
CATEGORIES:Βιβλιοπαρουσιάσεις
END:VEVENT
END:VCALENDAR